{
 "currentVersion": 10.61,
 "cimVersion": "2.2.0",
 "serviceDescription": "BCC OS GreyScale Base map",
 "mapName": "Layers",
 "description": "BCC OS GreyScale Base map",
 "copyrightText": "© Crown Copyright and database right 2026. Ordnance Survey AC0000819638",
 "supportsDynamicLayers": true,
 "layers": [
  {
   "id": 108,
   "name": "MasterMap",
   "parentLayerId": -1,
   "defaultVisibility": true,
   "subLayerIds": [
    109,
    110,
    111,
    112
   ],
   "minScale": 3500,
   "maxScale": 0
  },
  {
   "id": 109,
   "name": "Road Names",
   "parentLayerId": 108,
   "defaultVisibility": true,
   "subLayerIds": null,
   "minScale": 0,
   "maxScale": 0
  },
  {
   "id": 110,
   "name": "MMap Anno_500K",
   "parentLayerId": 108,
   "defaultVisibility": true,
   "subLayerIds": null,
   "minScale": 500,
   "maxScale": 0
  },
  {
   "id": 111,
   "name": "MMap Anno_1250K",
   "parentLayerId": 108,
   "defaultVisibility": true,
   "subLayerIds": null,
   "minScale": 1250,
   "maxScale": 501
  },
  {
   "id": 112,
   "name": "MMap Area",
   "parentLayerId": 108,
   "defaultVisibility": true,
   "subLayerIds": null,
   "minScale": 6613,
   "maxScale": 0
  },
  {
   "id": 113,
   "name": "Level 17 - 5K",
   "parentLayerId": -1,
   "defaultVisibility": true,
   "subLayerIds": [
    114,
    115,
    116,
    117,
    118,
    119,
    120,
    121,
    122,
    123,
    124
   ],
   "minScale": 6000,
   "maxScale": 3501
  },
  {
   "id": 114,
   "name": "Suburbs",
   "parentLayerId": 113,
   "defaultVisibility": true,
   "subLayerIds": null,
   "minScale": 0,
   "maxScale": 0
  },
  {
   "id": 115,
   "name": "Motorway",
   "parentLayerId": 113,
   "defaultVisibility": true,
   "subLayerIds": null,
   "minScale": 0,
   "maxScale": 0
  },
  {
   "id": 116,
   "name": "A Road",
   "parentLayerId": 113,
   "defaultVisibility": true,
   "subLayerIds": null,
   "minScale": 0,
   "maxScale": 0
  },
  {
   "id": 117,
   "name": "B Road",
   "parentLayerId": 113,
   "defaultVisibility": true,
   "subLayerIds": null,
   "minScale": 0,
   "maxScale": 0
  },
  {
   "id": 118,
   "name": "Minor Roads",
   "parentLayerId": 113,
   "defaultVisibility": true,
   "subLayerIds": null,
   "minScale": 0,
   "maxScale": 0
  },
  {
   "id": 119,
   "name": "Railway",
   "parentLayerId": 113,
   "defaultVisibility": true,
   "subLayerIds": null,
   "minScale": 0,
   "maxScale": 0
  },
  {
   "id": 120,
   "name": "River & Canal",
   "parentLayerId": 113,
   "defaultVisibility": true,
   "subLayerIds": null,
   "minScale": 0,
   "maxScale": 0
  },
  {
   "id": 121,
   "name": "Lakes",
   "parentLayerId": 113,
   "defaultVisibility": true,
   "subLayerIds": null,
   "minScale": 0,
   "maxScale": 0
  },
  {
   "id": 122,
   "name": "Woodland",
   "parentLayerId": 113,
   "defaultVisibility": true,
   "subLayerIds": null,
   "minScale": 0,
   "maxScale": 0
  },
  {
   "id": 123,
   "name": "Buildings",
   "parentLayerId": 113,
   "defaultVisibility": true,
   "subLayerIds": null,
   "minScale": 0,
   "maxScale": 0
  },
  {
   "id": 124,
   "name": "Greenspace",
   "parentLayerId": 113,
   "defaultVisibility": true,
   "subLayerIds": null,
   "minScale": 0,
   "maxScale": 0
  },
  {
   "id": 125,
   "name": "Level 16 - 10K",
   "parentLayerId": -1,
   "defaultVisibility": true,
   "subLayerIds": [
    126,
    127,
    128,
    129,
    130,
    131,
    132,
    133,
    134,
    135,
    136
   ],
   "minScale": 15000,
   "maxScale": 6001
  },
  {
   "id": 126,
   "name": "Suburbs",
   "parentLayerId": 125,
   "defaultVisibility": true,
   "subLayerIds": null,
   "minScale": 0,
   "maxScale": 0
  },
  {
   "id": 127,
   "name": "Motorway",
   "parentLayerId": 125,
   "defaultVisibility": true,
   "subLayerIds": null,
   "minScale": 0,
   "maxScale": 0
  },
  {
   "id": 128,
   "name": "A Road",
   "parentLayerId": 125,
   "defaultVisibility": true,
   "subLayerIds": null,
   "minScale": 0,
   "maxScale": 0
  },
  {
   "id": 129,
   "name": "B Road",
   "parentLayerId": 125,
   "defaultVisibility": true,
   "subLayerIds": null,
   "minScale": 0,
   "maxScale": 0
  },
  {
   "id": 130,
   "name": "Minor Roads",
   "parentLayerId": 125,
   "defaultVisibility": true,
   "subLayerIds": null,
   "minScale": 0,
   "maxScale": 0
  },
  {
   "id": 131,
   "name": "Railway",
   "parentLayerId": 125,
   "defaultVisibility": true,
   "subLayerIds": null,
   "minScale": 0,
   "maxScale": 0
  },
  {
   "id": 132,
   "name": "River & Canal",
   "parentLayerId": 125,
   "defaultVisibility": true,
   "subLayerIds": null,
   "minScale": 0,
   "maxScale": 0
  },
  {
   "id": 133,
   "name": "Lakes",
   "parentLayerId": 125,
   "defaultVisibility": true,
   "subLayerIds": null,
   "minScale": 0,
   "maxScale": 0
  },
  {
   "id": 134,
   "name": "Woodland",
   "parentLayerId": 125,
   "defaultVisibility": true,
   "subLayerIds": null,
   "minScale": 0,
   "maxScale": 0
  },
  {
   "id": 135,
   "name": "Buildings",
   "parentLayerId": 125,
   "defaultVisibility": true,
   "subLayerIds": null,
   "minScale": 0,
   "maxScale": 0
  },
  {
   "id": 136,
   "name": "Greenspace",
   "parentLayerId": 125,
   "defaultVisibility": true,
   "subLayerIds": null,
   "minScale": 0,
   "maxScale": 0
  },
  {
   "id": 137,
   "name": "Level 15 - 25K",
   "parentLayerId": -1,
   "defaultVisibility": true,
   "subLayerIds": [
    138,
    139,
    140,
    141,
    142,
    143,
    144,
    145,
    146,
    147,
    148,
    149,
    150
   ],
   "minScale": 35000,
   "maxScale": 15001
  },
  {
   "id": 138,
   "name": "City",
   "parentLayerId": 137,
   "defaultVisibility": true,
   "subLayerIds": null,
   "minScale": 0,
   "maxScale": 0
  },
  {
   "id": 139,
   "name": "Town",
   "parentLayerId": 137,
   "defaultVisibility": true,
   "subLayerIds": null,
   "minScale": 0,
   "maxScale": 0
  },
  {
   "id": 140,
   "name": "Suburbs",
   "parentLayerId": 137,
   "defaultVisibility": true,
   "subLayerIds": null,
   "minScale": 0,
   "maxScale": 0
  },
  {
   "id": 141,
   "name": "Motorway",
   "parentLayerId": 137,
   "defaultVisibility": true,
   "subLayerIds": null,
   "minScale": 0,
   "maxScale": 0
  },
  {
   "id": 142,
   "name": "A Road",
   "parentLayerId": 137,
   "defaultVisibility": true,
   "subLayerIds": null,
   "minScale": 0,
   "maxScale": 0
  },
  {
   "id": 143,
   "name": "B Road",
   "parentLayerId": 137,
   "defaultVisibility": true,
   "subLayerIds": null,
   "minScale": 0,
   "maxScale": 0
  },
  {
   "id": 144,
   "name": "Minor Roads",
   "parentLayerId": 137,
   "defaultVisibility": true,
   "subLayerIds": null,
   "minScale": 0,
   "maxScale": 0
  },
  {
   "id": 145,
   "name": "Railway",
   "parentLayerId": 137,
   "defaultVisibility": true,
   "subLayerIds": null,
   "minScale": 0,
   "maxScale": 0
  },
  {
   "id": 146,
   "name": "River & Canal",
   "parentLayerId": 137,
   "defaultVisibility": true,
   "subLayerIds": null,
   "minScale": 0,
   "maxScale": 0
  },
  {
   "id": 147,
   "name": "Lakes",
   "parentLayerId": 137,
   "defaultVisibility": true,
   "subLayerIds": null,
   "minScale": 0,
   "maxScale": 0
  },
  {
   "id": 148,
   "name": "Woodland",
   "parentLayerId": 137,
   "defaultVisibility": true,
   "subLayerIds": null,
   "minScale": 0,
   "maxScale": 0
  },
  {
   "id": 149,
   "name": "Buildings",
   "parentLayerId": 137,
   "defaultVisibility": true,
   "subLayerIds": null,
   "minScale": 0,
   "maxScale": 0
  },
  {
   "id": 150,
   "name": "Greenspace",
   "parentLayerId": 137,
   "defaultVisibility": true,
   "subLayerIds": null,
   "minScale": 0,
   "maxScale": 0
  },
  {
   "id": 151,
   "name": "Level 14 - 50K",
   "parentLayerId": -1,
   "defaultVisibility": true,
   "subLayerIds": [
    152,
    153,
    154,
    155,
    156,
    157,
    158,
    159,
    160,
    161,
    162,
    163,
    164,
    165
   ],
   "minScale": 60000,
   "maxScale": 35001
  },
  {
   "id": 152,
   "name": "City",
   "parentLayerId": 151,
   "defaultVisibility": true,
   "subLayerIds": null,
   "minScale": 0,
   "maxScale": 0
  },
  {
   "id": 153,
   "name": "Town",
   "parentLayerId": 151,
   "defaultVisibility": true,
   "subLayerIds": null,
   "minScale": 0,
   "maxScale": 0
  },
  {
   "id": 154,
   "name": "Suburbs",
   "parentLayerId": 151,
   "defaultVisibility": true,
   "subLayerIds": null,
   "minScale": 0,
   "maxScale": 0
  },
  {
   "id": 155,
   "name": "Motorway",
   "parentLayerId": 151,
   "defaultVisibility": true,
   "subLayerIds": null,
   "minScale": 0,
   "maxScale": 0
  },
  {
   "id": 156,
   "name": "Primary",
   "parentLayerId": 151,
   "defaultVisibility": true,
   "subLayerIds": null,
   "minScale": 0,
   "maxScale": 0
  },
  {
   "id": 157,
   "name": "A Road",
   "parentLayerId": 151,
   "defaultVisibility": true,
   "subLayerIds": null,
   "minScale": 0,
   "maxScale": 0
  },
  {
   "id": 158,
   "name": "B Road",
   "parentLayerId": 151,
   "defaultVisibility": true,
   "subLayerIds": null,
   "minScale": 0,
   "maxScale": 0
  },
  {
   "id": 159,
   "name": "Minor Road",
   "parentLayerId": 151,
   "defaultVisibility": true,
   "subLayerIds": null,
   "minScale": 0,
   "maxScale": 0
  },
  {
   "id": 160,
   "name": "Railway",
   "parentLayerId": 151,
   "defaultVisibility": true,
   "subLayerIds": null,
   "minScale": 0,
   "maxScale": 0
  },
  {
   "id": 161,
   "name": "River & Canal",
   "parentLayerId": 151,
   "defaultVisibility": true,
   "subLayerIds": null,
   "minScale": 0,
   "maxScale": 0
  },
  {
   "id": 162,
   "name": "Lakes",
   "parentLayerId": 151,
   "defaultVisibility": true,
   "subLayerIds": null,
   "minScale": 0,
   "maxScale": 0
  },
  {
   "id": 163,
   "name": "Woodland",
   "parentLayerId": 151,
   "defaultVisibility": true,
   "subLayerIds": null,
   "minScale": 0,
   "maxScale": 0
  },
  {
   "id": 164,
   "name": "Buildings",
   "parentLayerId": 151,
   "defaultVisibility": true,
   "subLayerIds": null,
   "minScale": 0,
   "maxScale": 0
  },
  {
   "id": 165,
   "name": "Greenspace",
   "parentLayerId": 151,
   "defaultVisibility": true,
   "subLayerIds": null,
   "minScale": 0,
   "maxScale": 0
  },
  {
   "id": 166,
   "name": "Level 13 - 75K",
   "parentLayerId": -1,
   "defaultVisibility": true,
   "subLayerIds": [
    167,
    168,
    169,
    170,
    171,
    172,
    173,
    174,
    175,
    176,
    177,
    178,
    179,
    180
   ],
   "minScale": 90000,
   "maxScale": 60001
  },
  {
   "id": 167,
   "name": "City",
   "parentLayerId": 166,
   "defaultVisibility": true,
   "subLayerIds": null,
   "minScale": 0,
   "maxScale": 0
  },
  {
   "id": 168,
   "name": "Town",
   "parentLayerId": 166,
   "defaultVisibility": true,
   "subLayerIds": null,
   "minScale": 0,
   "maxScale": 0
  },
  {
   "id": 169,
   "name": "Suburbs",
   "parentLayerId": 166,
   "defaultVisibility": true,
   "subLayerIds": null,
   "minScale": 0,
   "maxScale": 0
  },
  {
   "id": 170,
   "name": "Motorway",
   "parentLayerId": 166,
   "defaultVisibility": true,
   "subLayerIds": null,
   "minScale": 0,
   "maxScale": 0
  },
  {
   "id": 171,
   "name": "Primary",
   "parentLayerId": 166,
   "defaultVisibility": true,
   "subLayerIds": null,
   "minScale": 0,
   "maxScale": 0
  },
  {
   "id": 172,
   "name": "A Road",
   "parentLayerId": 166,
   "defaultVisibility": true,
   "subLayerIds": null,
   "minScale": 0,
   "maxScale": 0
  },
  {
   "id": 173,
   "name": "B Road",
   "parentLayerId": 166,
   "defaultVisibility": true,
   "subLayerIds": null,
   "minScale": 0,
   "maxScale": 0
  },
  {
   "id": 174,
   "name": "Minor Road",
   "parentLayerId": 166,
   "defaultVisibility": true,
   "subLayerIds": null,
   "minScale": 0,
   "maxScale": 0
  },
  {
   "id": 175,
   "name": "Railway",
   "parentLayerId": 166,
   "defaultVisibility": true,
   "subLayerIds": null,
   "minScale": 0,
   "maxScale": 0
  },
  {
   "id": 176,
   "name": "uk_coastline",
   "parentLayerId": 166,
   "defaultVisibility": true,
   "subLayerIds": null,
   "minScale": 0,
   "maxScale": 0
  },
  {
   "id": 177,
   "name": "surfacewater",
   "parentLayerId": 166,
   "defaultVisibility": true,
   "subLayerIds": null,
   "minScale": 0,
   "maxScale": 0
  },
  {
   "id": 178,
   "name": "Woodland",
   "parentLayerId": 166,
   "defaultVisibility": true,
   "subLayerIds": null,
   "minScale": 0,
   "maxScale": 0
  },
  {
   "id": 179,
   "name": "main.os_open_built_up_areas",
   "parentLayerId": 166,
   "defaultVisibility": true,
   "subLayerIds": null,
   "minScale": 0,
   "maxScale": 0
  },
  {
   "id": 180,
   "name": "national_parks",
   "parentLayerId": 166,
   "defaultVisibility": true,
   "subLayerIds": null,
   "minScale": 0,
   "maxScale": 0
  },
  {
   "id": 181,
   "name": "Level 12 - 100K",
   "parentLayerId": -1,
   "defaultVisibility": true,
   "subLayerIds": [
    182,
    183,
    184,
    185,
    186,
    187,
    188,
    189,
    190,
    191,
    192,
    193,
    194,
    195
   ],
   "minScale": 200000,
   "maxScale": 90001
  },
  {
   "id": 182,
   "name": "Suburbs",
   "parentLayerId": 181,
   "defaultVisibility": true,
   "subLayerIds": null,
   "minScale": 0,
   "maxScale": 0
  },
  {
   "id": 183,
   "name": "City",
   "parentLayerId": 181,
   "defaultVisibility": true,
   "subLayerIds": null,
   "minScale": 0,
   "maxScale": 0
  },
  {
   "id": 184,
   "name": "Town",
   "parentLayerId": 181,
   "defaultVisibility": true,
   "subLayerIds": null,
   "minScale": 0,
   "maxScale": 0
  },
  {
   "id": 185,
   "name": "Motorway",
   "parentLayerId": 181,
   "defaultVisibility": true,
   "subLayerIds": null,
   "minScale": 0,
   "maxScale": 0
  },
  {
   "id": 186,
   "name": "Primary",
   "parentLayerId": 181,
   "defaultVisibility": true,
   "subLayerIds": null,
   "minScale": 0,
   "maxScale": 0
  },
  {
   "id": 187,
   "name": "A Road",
   "parentLayerId": 181,
   "defaultVisibility": true,
   "subLayerIds": null,
   "minScale": 0,
   "maxScale": 0
  },
  {
   "id": 188,
   "name": "B Road",
   "parentLayerId": 181,
   "defaultVisibility": true,
   "subLayerIds": null,
   "minScale": 0,
   "maxScale": 0
  },
  {
   "id": 189,
   "name": "Minor Road",
   "parentLayerId": 181,
   "defaultVisibility": true,
   "subLayerIds": null,
   "minScale": 0,
   "maxScale": 0
  },
  {
   "id": 190,
   "name": "Railway",
   "parentLayerId": 181,
   "defaultVisibility": true,
   "subLayerIds": null,
   "minScale": 0,
   "maxScale": 0
  },
  {
   "id": 191,
   "name": "uk_coastline",
   "parentLayerId": 181,
   "defaultVisibility": true,
   "subLayerIds": null,
   "minScale": 0,
   "maxScale": 0
  },
  {
   "id": 192,
   "name": "surfacewater",
   "parentLayerId": 181,
   "defaultVisibility": true,
   "subLayerIds": null,
   "minScale": 0,
   "maxScale": 0
  },
  {
   "id": 193,
   "name": "Woodland",
   "parentLayerId": 181,
   "defaultVisibility": true,
   "subLayerIds": null,
   "minScale": 0,
   "maxScale": 0
  },
  {
   "id": 194,
   "name": "national_parks",
   "parentLayerId": 181,
   "defaultVisibility": true,
   "subLayerIds": null,
   "minScale": 0,
   "maxScale": 0
  },
  {
   "id": 195,
   "name": "main.os_open_built_up_areas",
   "parentLayerId": 181,
   "defaultVisibility": true,
   "subLayerIds": null,
   "minScale": 0,
   "maxScale": 0
  },
  {
   "id": 196,
   "name": "Level 11 - 250K",
   "parentLayerId": -1,
   "defaultVisibility": true,
   "subLayerIds": [
    197,
    198,
    199,
    200,
    201,
    202,
    203,
    204,
    205,
    206,
    207
   ],
   "minScale": 475000,
   "maxScale": 200001
  },
  {
   "id": 197,
   "name": "City",
   "parentLayerId": 196,
   "defaultVisibility": true,
   "subLayerIds": null,
   "minScale": 0,
   "maxScale": 0
  },
  {
   "id": 198,
   "name": "Town",
   "parentLayerId": 196,
   "defaultVisibility": true,
   "subLayerIds": null,
   "minScale": 0,
   "maxScale": 0
  },
  {
   "id": 199,
   "name": "Motorway",
   "parentLayerId": 196,
   "defaultVisibility": true,
   "subLayerIds": null,
   "minScale": 0,
   "maxScale": 0
  },
  {
   "id": 200,
   "name": "Primary",
   "parentLayerId": 196,
   "defaultVisibility": true,
   "subLayerIds": null,
   "minScale": 0,
   "maxScale": 0
  },
  {
   "id": 201,
   "name": "A Road",
   "parentLayerId": 196,
   "defaultVisibility": true,
   "subLayerIds": null,
   "minScale": 0,
   "maxScale": 0
  },
  {
   "id": 202,
   "name": "B Road",
   "parentLayerId": 196,
   "defaultVisibility": true,
   "subLayerIds": null,
   "minScale": 0,
   "maxScale": 0
  },
  {
   "id": 203,
   "name": "Railway",
   "parentLayerId": 196,
   "defaultVisibility": true,
   "subLayerIds": null,
   "minScale": 0,
   "maxScale": 0
  },
  {
   "id": 204,
   "name": "uk_coastline",
   "parentLayerId": 196,
   "defaultVisibility": true,
   "subLayerIds": null,
   "minScale": 0,
   "maxScale": 0
  },
  {
   "id": 205,
   "name": "surfacewater",
   "parentLayerId": 196,
   "defaultVisibility": true,
   "subLayerIds": null,
   "minScale": 0,
   "maxScale": 0
  },
  {
   "id": 206,
   "name": "national_parks",
   "parentLayerId": 196,
   "defaultVisibility": true,
   "subLayerIds": null,
   "minScale": 0,
   "maxScale": 0
  },
  {
   "id": 207,
   "name": "main.os_open_built_up_areas",
   "parentLayerId": 196,
   "defaultVisibility": true,
   "subLayerIds": null,
   "minScale": 0,
   "maxScale": 0
  },
  {
   "id": 208,
   "name": "Level 10 - 500K",
   "parentLayerId": -1,
   "defaultVisibility": true,
   "subLayerIds": [
    209,
    210,
    211,
    212,
    213,
    214,
    215,
    216,
    217
   ],
   "minScale": 20000000,
   "maxScale": 475001
  },
  {
   "id": 209,
   "name": "City",
   "parentLayerId": 208,
   "defaultVisibility": true,
   "subLayerIds": null,
   "minScale": 0,
   "maxScale": 0
  },
  {
   "id": 210,
   "name": "Motorway",
   "parentLayerId": 208,
   "defaultVisibility": true,
   "subLayerIds": null,
   "minScale": 0,
   "maxScale": 0
  },
  {
   "id": 211,
   "name": "Primary",
   "parentLayerId": 208,
   "defaultVisibility": false,
   "subLayerIds": null,
   "minScale": 0,
   "maxScale": 0
  },
  {
   "id": 212,
   "name": "A Road",
   "parentLayerId": 208,
   "defaultVisibility": false,
   "subLayerIds": null,
   "minScale": 0,
   "maxScale": 0
  },
  {
   "id": 213,
   "name": "Railway",
   "parentLayerId": 208,
   "defaultVisibility": true,
   "subLayerIds": null,
   "minScale": 0,
   "maxScale": 0
  },
  {
   "id": 214,
   "name": "uk_coastline",
   "parentLayerId": 208,
   "defaultVisibility": true,
   "subLayerIds": null,
   "minScale": 0,
   "maxScale": 0
  },
  {
   "id": 215,
   "name": "surfacewater",
   "parentLayerId": 208,
   "defaultVisibility": true,
   "subLayerIds": null,
   "minScale": 0,
   "maxScale": 0
  },
  {
   "id": 216,
   "name": "national_parks",
   "parentLayerId": 208,
   "defaultVisibility": true,
   "subLayerIds": null,
   "minScale": 0,
   "maxScale": 0
  },
  {
   "id": 217,
   "name": "main.os_open_built_up_areas",
   "parentLayerId": 208,
   "defaultVisibility": true,
   "subLayerIds": null,
   "minScale": 0,
   "maxScale": 0
  }
 ],
 "tables": [],
 "spatialReference": {
  "wkid": 27700,
  "latestWkid": 27700,
  "xyTolerance": 0.001,
  "zTolerance": 0.001,
  "mTolerance": 0.001,
  "falseX": -5220400,
  "falseY": -15524400,
  "xyUnits": 10000,
  "falseZ": -100000,
  "zUnits": 10000,
  "falseM": -100000,
  "mUnits": 10000
 },
 "singleFusedMapCache": true,
 "tileInfo": {
  "rows": 256,
  "cols": 256,
  "dpi": 96,
  "format": "PNG",
  "compressionQuality": 0,
  "origin": {
   "x": -9597137.348713825,
   "y": 4470073.533885086
  },
  "spatialReference": {
   "wkid": 27700,
   "latestWkid": 27700,
   "xyTolerance": 0.001,
   "zTolerance": 0.001,
   "mTolerance": 0.001,
   "falseX": -5220400,
   "falseY": -15524400,
   "xyUnits": 10000,
   "falseZ": -100000,
   "zUnits": 10000,
   "falseM": -100000,
   "mUnits": 10000
  },
  "lods": [
   {
    "level": 0,
    "resolution": 78102.63553682675,
    "scale": 2.9519106344627434E8
   },
   {
    "level": 1,
    "resolution": 39051.31776841338,
    "scale": 1.4759553172313717E8
   },
   {
    "level": 2,
    "resolution": 19525.65888420669,
    "scale": 7.379776586156859E7
   },
   {
    "level": 3,
    "resolution": 9762.829442103344,
    "scale": 3.689888293078429E7
   },
   {
    "level": 4,
    "resolution": 4881.414721051672,
    "scale": 1.8449441465392146E7
   },
   {
    "level": 5,
    "resolution": 2440.707360525836,
    "scale": 9224720.732696073
   },
   {
    "level": 6,
    "resolution": 1220.353680262918,
    "scale": 4612360.366348037
   },
   {
    "level": 7,
    "resolution": 610.176840131459,
    "scale": 2306180.1831740183
   },
   {
    "level": 8,
    "resolution": 305.0884200657295,
    "scale": 1153090.0915870091
   },
   {
    "level": 9,
    "resolution": 152.54421003286475,
    "scale": 576545.0457935046
   },
   {
    "level": 10,
    "resolution": 76.27210501643238,
    "scale": 288272.5228967523
   },
   {
    "level": 11,
    "resolution": 38.13605250821619,
    "scale": 144136.26144837614
   },
   {
    "level": 12,
    "resolution": 19.068026254108094,
    "scale": 72068.13072418807
   },
   {
    "level": 13,
    "resolution": 9.534013127054047,
    "scale": 36034.065362094036
   },
   {
    "level": 14,
    "resolution": 4.767006563527024,
    "scale": 18017.032681047018
   },
   {
    "level": 15,
    "resolution": 2.383503281763512,
    "scale": 9008.516340523509
   },
   {
    "level": 16,
    "resolution": 1.191751640881756,
    "scale": 4504.2581702617545
   },
   {
    "level": 17,
    "resolution": 0.595875820440878,
    "scale": 2252.1290851308772
   },
   {
    "level": 18,
    "resolution": 0.297937910220439,
    "scale": 1126.0645425654386
   },
   {
    "level": 19,
    "resolution": 0.1489689551102195,
    "scale": 563.0322712827193
   },
   {
    "level": 20,
    "resolution": 0.07448447755510974,
    "scale": 281.51613564135965
   },
   {
    "level": 21,
    "resolution": 0.03724223877755487,
    "scale": 140.75806782067983
   },
   {
    "level": 22,
    "resolution": 0.018621119388777436,
    "scale": 70.37903391033991
   },
   {
    "level": 23,
    "resolution": 0.009310559694388718,
    "scale": 35.18951695516996
   }
  ]
 },
 "initialExtent": {
  "xmin": -684736.7075880843,
  "ymin": -57581.29345049558,
  "xmax": 1345897.8396880846,
  "ymax": 1283066.515050496,
  "spatialReference": {
   "wkid": 27700,
   "latestWkid": 27700,
   "xyTolerance": 0.001,
   "zTolerance": 0.001,
   "mTolerance": 0.001,
   "falseX": -5220400,
   "falseY": -15524400,
   "xyUnits": 10000,
   "falseZ": -100000,
   "zUnits": 10000,
   "falseM": -100000,
   "mUnits": 10000
  }
 },
 "fullExtent": {
  "xmin": -681611.9,
  "ymin": -56242.87,
  "xmax": 1342773.03,
  "ymax": 1281728.1,
  "spatialReference": {
   "wkid": 27700,
   "latestWkid": 27700,
   "xyTolerance": 0.001,
   "zTolerance": 0.001,
   "mTolerance": 0.001,
   "falseX": -5220400,
   "falseY": -15524400,
   "xyUnits": 10000,
   "falseZ": -100000,
   "zUnits": 10000,
   "falseM": -100000,
   "mUnits": 10000
  }
 },
 "minScale": 3.689888293078429E7,
 "maxScale": 140.75806782067983,
 "units": "esriMeters",
 "supportedImageFormatTypes": "PNG32,PNG24,PNG,JPG,DIB,TIFF,EMF,PS,PDF,GIF,SVG,SVGZ,BMP",
 "documentInfo": {
  "Title": "OS_GreyScale",
  "Author": "",
  "Comments": "Map Name: OS_GreyScale, Version: 2.0.1, Dated: October, 2025.",
  "Subject": "BCC OS Grey Scale Base Map",
  "Category": "",
  "AntialiasingMode": "None",
  "TextAntialiasingMode": "Force",
  "Keywords": "BaseMap,V:2.0.0"
 },
 "capabilities": "Map",
 "supportedQueryFormats": "JSON, AMF, geoJSON",
 "exportTilesAllowed": true,
 "maxExportTilesCount": 100000,
 "datumTransformations": [
  {
   "geoTransforms": [
    {
     "wkid": 108058,
     "latestWkid": 108058,
     "transformForward": true,
     "name": "WGS_1984_To_OSGB_1936_OSTN15"
    }
   ]
  },
  {
   "geoTransforms": [
    {
     "wkid": 108058,
     "latestWkid": 108058,
     "transformForward": false,
     "name": "WGS_1984_To_OSGB_1936_OSTN15"
